BEGIN:VCALENDAR
VERSION:2.0
PRODID:-//Kulturhof  Flensburg - ECPv6.15.20//NONSGML v1.0//EN
CALSCALE:GREGORIAN
METHOD:PUBLISH
X-ORIGINAL-URL:https://www.kulturhof-flensburg.de
X-WR-CALDESC:Veranstaltungen für Kulturhof  Flensburg
REFRESH-INTERVAL;VALUE=DURATION:PT1H
X-Robots-Tag:noindex
X-PUBLISHED-TTL:PT1H
BEGIN:VTIMEZONE
TZID:Europe/Berlin
BEGIN:DAYLIGHT
TZOFFSETFROM:+0100
TZOFFSETTO:+0200
TZNAME:CEST
DTSTART:20240331T010000
END:DAYLIGHT
BEGIN:STANDARD
TZOFFSETFROM:+0200
TZOFFSETTO:+0100
TZNAME:CET
DTSTART:20241027T010000
END:STANDARD
BEGIN:DAYLIGHT
TZOFFSETFROM:+0100
TZOFFSETTO:+0200
TZNAME:CEST
DTSTART:20250330T010000
END:DAYLIGHT
BEGIN:STANDARD
TZOFFSETFROM:+0200
TZOFFSETTO:+0100
TZNAME:CET
DTSTART:20251026T010000
END:STANDARD
BEGIN:DAYLIGHT
TZOFFSETFROM:+0100
TZOFFSETTO:+0200
TZNAME:CEST
DTSTART:20260329T010000
END:DAYLIGHT
BEGIN:STANDARD
TZOFFSETFROM:+0200
TZOFFSETTO:+0100
TZNAME:CET
DTSTART:20261025T010000
END:STANDARD
END:VTIMEZONE
BEGIN:VEVENT
DTSTART;TZID=Europe/Berlin:20251206T163000
DTEND;TZID=Europe/Berlin:20251206T180000
DTSTAMP:20260425T143913
CREATED:20251120T075444Z
LAST-MODIFIED:20251120T075444Z
UID:2708-1765038600-1765044000@www.kulturhof-flensburg.de
SUMMARY:Konzert: Nadine Jeanne und Aronne dell'Oro
DESCRIPTION:Im August waren das Musikerpaar Nadine Jeanne und Aronne dell’Oro das 1. Mal im Kulturhof im Schrangen zu Gast und die beiden waren von der Atmosphäre des alten Gebäudes und den Gästen so angetan\, dass sie während ihrer Dezembertour erneut auftreten werden. \nNadine Jeanne – Gesang\, Klavier\, Kalimba\, Ukulele-Bass und als Special Guest Aronne Dell’Oro – Gesang\, Akustikgitarre\, Percussion \n„Human Tracks“ ist das neue Werk der Singer-Songwriterin Nadine Jeanne. \nNach einem Studium an der Hochschule für Musik und Theater in München folgten Jahre verschiedener Zusammenarbeiten\, in denen sie die Standards des großen American Songbooks sang.\nIn ihrem Songwriting verschmelzen afroamerikanische Traditionen\, französisch-impressionistische und traditionelle einheimische Klänge mit ihrem eigenen Familienerbe aus deutsch- französisch-polynesischen Wurzeln.\nNadine Jeanne\, die ihr Logbuch der Traveling Songs zwischen Soul\, Jazz und impressionistischen Momenten präsentiert\, ist eine Künstlerin auf der Suche nach einem gefühlvollen Klangerlebnis fernab aller Klischees\, um neues Terrain auf der Bühne zu erschließen.\nAls Gast wird Aronne Dell’Oro auf den Spuren seiner süditalienischen Herkunft ausdrucksstarke Lieder mit sehr persönlichem Stil interpretieren. \nBeginn ist nachmittags um 16.30 Uhr im Veranstaltungsraum des Schrangen. Der Eintritt ist frei – es geht der Hut rum.
URL:https://www.kulturhof-flensburg.de/events/konzert-nadine-jeanne-und-aronne-delloro/
LOCATION:Schleswig Holstein
ATTACH;FMTTYPE=image/jpeg:https://www.kulturhof-flensburg.de/wp-content/uploads/2025/11/Foto-Nadine-scaled.jpg
END:VEVENT
END:VCALENDAR