BEGIN:VCALENDAR
VERSION:2.0
PRODID:-//Kulturhof  Flensburg - ECPv6.15.20//NONSGML v1.0//EN
CALSCALE:GREGORIAN
METHOD:PUBLISH
X-WR-CALNAME:Kulturhof  Flensburg
X-ORIGINAL-URL:https://www.kulturhof-flensburg.de
X-WR-CALDESC:Veranstaltungen für Kulturhof  Flensburg
REFRESH-INTERVAL;VALUE=DURATION:PT1H
X-Robots-Tag:noindex
X-PUBLISHED-TTL:PT1H
BEGIN:VTIMEZONE
TZID:Europe/Berlin
BEGIN:DAYLIGHT
TZOFFSETFROM:+0100
TZOFFSETTO:+0200
TZNAME:CEST
DTSTART:20240331T010000
END:DAYLIGHT
BEGIN:STANDARD
TZOFFSETFROM:+0200
TZOFFSETTO:+0100
TZNAME:CET
DTSTART:20241027T010000
END:STANDARD
BEGIN:DAYLIGHT
TZOFFSETFROM:+0100
TZOFFSETTO:+0200
TZNAME:CEST
DTSTART:20250330T010000
END:DAYLIGHT
BEGIN:STANDARD
TZOFFSETFROM:+0200
TZOFFSETTO:+0100
TZNAME:CET
DTSTART:20251026T010000
END:STANDARD
BEGIN:DAYLIGHT
TZOFFSETFROM:+0100
TZOFFSETTO:+0200
TZNAME:CEST
DTSTART:20260329T010000
END:DAYLIGHT
BEGIN:STANDARD
TZOFFSETFROM:+0200
TZOFFSETTO:+0100
TZNAME:CET
DTSTART:20261025T010000
END:STANDARD
END:VTIMEZONE
BEGIN:VEVENT
DTSTART;TZID=Europe/Berlin:20251005T190000
DTEND;TZID=Europe/Berlin:20251005T213000
DTSTAMP:20260425T183322
CREATED:20260309T075350Z
LAST-MODIFIED:20260309T185127Z
UID:2957-1759690800-1759699800@www.kulturhof-flensburg.de
SUMMARY:Vortrag zum Thema Darmgesundheit
DESCRIPTION:Dr. Kathrin Wollmann
URL:https://www.kulturhof-flensburg.de/events/vortrag-zum-thema-darmgesundheit/
LOCATION:Schleswig Holstein
END:VEVENT
END:VCALENDAR